BEGIN:VCALENDAR
VERSION:2.0
PRODID:-//StreamRadar//Match Calendar//EN
CALSCALE:GREGORIAN
METHOD:PUBLISH
X-WR-CALNAME:Bayern München vs Stuttgart
X-WR-TIMEZONE:America/New_York
BEGIN:VEVENT
UID:match-5620952@streamradar.soccer
SUMMARY:Bayern München vs Stuttgart
DTSTAMP:20260425T115702Z
DTSTART;TZID=America/New_York:20260523T140000
DTEND;TZID=America/New_York:20260523T160000
LOCATION:Olympiastadion
DESCRIPTION:Где смотреть Бавария – Штутгарт в 
 турнире Кубок Германии. Прямая трансляци
 я и телепрограмма.\nhttps://streamradar.soccer/ru/match/5620
 952/bayern-munchen-vs-stuttgart/
URL;VALUE=URI:https://streamradar.soccer/ru/match/5620952/bayern-munchen-vs
 -stuttgart/
STATUS:CONFIRMED
END:VEVENT
END:VCALENDAR
