BEGIN:VCALENDAR
VERSION:2.0
PRODID:-//StreamRadar//Match Calendar//EN
CALSCALE:GREGORIAN
METHOD:PUBLISH
X-WR-CALNAME:Monterey Bay vs Birmingham Legion
X-WR-TIMEZONE:America/New_York
BEGIN:VEVENT
UID:match-5620947@streamradar.soccer
SUMMARY:Monterey Bay vs Birmingham Legion
DTSTAMP:20260425T115850Z
DTSTART;TZID=America/New_York:20260523T220000
DTEND;TZID=America/New_York:20260524T000000
LOCATION:Cardinale Stadium
DESCRIPTION:Где смотреть Monterey Bay – Birmingham Legion в 
 урнире USL Championship. Прямая трансляция и тел
 епрограмма.\nhttps://streamradar.soccer/ru/match/5620947/monterey
 -bay-vs-birmingham-legion/
URL;VALUE=URI:https://streamradar.soccer/ru/match/5620947/monterey-bay-vs-b
 irmingham-legion/
STATUS:CONFIRMED
END:VEVENT
END:VCALENDAR
