BEGIN:VCALENDAR
VERSION:2.0
PRODID:-//StreamRadar//Match Calendar//EN
CALSCALE:GREGORIAN
METHOD:PUBLISH
X-WR-CALNAME:San Diego vs Vancouver Whitecaps
X-WR-TIMEZONE:America/New_York
BEGIN:VEVENT
UID:match-5620943@streamradar.soccer
SUMMARY:San Diego vs Vancouver Whitecaps
DTSTAMP:20260425T115858Z
DTSTART;TZID=America/New_York:20260523T213000
DTEND;TZID=America/New_York:20260523T233000
LOCATION:Snapdragon Stadium
DESCRIPTION:Где смотреть San Diego – Ванкувер Уайт
 кэпс в турнире MLS. Прямая трансляция и тел
 епрограмма.\nhttps://streamradar.soccer/ru/match/5620943/san-dieg
 o-vs-vancouver-whitecaps/
URL;VALUE=URI:https://streamradar.soccer/ru/match/5620943/san-diego-vs-vanc
 ouver-whitecaps/
STATUS:CONFIRMED
END:VEVENT
END:VCALENDAR
