BEGIN:VCALENDAR
VERSION:2.0
PRODID:-//StreamRadar//Match Calendar//EN
CALSCALE:GREGORIAN
METHOD:PUBLISH
X-WR-CALNAME:Kdz. Ereğli vs Yozgat Bld Bozokspor
X-WR-TIMEZONE:America/New_York
BEGIN:VEVENT
UID:match-5620202@streamradar.soccer
SUMMARY:Kdz. Ereğli vs Yozgat Bld Bozokspor
DTSTAMP:20260424T160319Z
DTSTART;TZID=America/New_York:20260428T080000
DTEND;TZID=America/New_York:20260428T100000
LOCATION:Beyçayırı Şehit Vefa Karakurdu (Karadeniz Ereğli)
DESCRIPTION:Где смотреть Kdz. Ereğli – Yozgat Bld Bozokspor 
  турнире Турция - Третья лига. Прямая тра
 сляция и телепрограмма.\nhttps://streamradar.soccer/ru
 /match/5620202/kdz-ere-li-vs-yozgat-bld-bozokspor/
URL;VALUE=URI:https://streamradar.soccer/ru/match/5620202/kdz-ere-li-vs-yoz
 gat-bld-bozokspor/
STATUS:CONFIRMED
END:VEVENT
END:VCALENDAR
