BEGIN:VCALENDAR
VERSION:2.0
PRODID:-//StreamRadar//Match Calendar//EN
CALSCALE:GREGORIAN
METHOD:PUBLISH
X-WR-CALNAME:Ulaangom City vs Khovd
X-WR-TIMEZONE:America/New_York
BEGIN:VEVENT
UID:match-5619678@streamradar.soccer
SUMMARY:Ulaangom City vs Khovd
DTSTAMP:20260423T123329Z
DTSTART;TZID=America/New_York:20260521T060000
DTEND;TZID=America/New_York:20260521T080000
DESCRIPTION:Где смотреть Ulaangom City – Khovd в турнир
 е Монголия - Премьер-лига Монголии. Пряма
  трансляция и телепрограмма.\nhttps://streamradar.
 soccer/ru/match/5619678/ulaangom-city-vs-khovd/
URL;VALUE=URI:https://streamradar.soccer/ru/match/5619678/ulaangom-city-vs-
 khovd/
STATUS:CONFIRMED
END:VEVENT
END:VCALENDAR
