BEGIN:VCALENDAR
VERSION:2.0
PRODID:-//StreamRadar//Match Calendar//EN
CALSCALE:GREGORIAN
METHOD:PUBLISH
X-WR-CALNAME:Khangarid vs Tuv Azarganuud
X-WR-TIMEZONE:America/New_York
BEGIN:VEVENT
UID:match-5619677@streamradar.soccer
SUMMARY:Khangarid vs Tuv Azarganuud
DTSTAMP:20260423T123356Z
DTSTART;TZID=America/New_York:20260521T030000
DTEND;TZID=America/New_York:20260521T050000
DESCRIPTION:Где смотреть Khangarid – Tuv Azarganuud в тур
 ире Монголия - Премьер-лига Монголии. Пря
 мая трансляция и телепрограмма.\nhttps://streamr
 adar.soccer/ru/match/5619677/khangarid-vs-tuv-azarganuud/
URL;VALUE=URI:https://streamradar.soccer/ru/match/5619677/khangarid-vs-tuv-
 azarganuud/
STATUS:CONFIRMED
END:VEVENT
END:VCALENDAR
