BEGIN:VCALENDAR
VERSION:2.0
PRODID:-//StreamRadar//Match Calendar//EN
CALSCALE:GREGORIAN
METHOD:PUBLISH
X-WR-CALNAME:Deren vs Khoromkhon
X-WR-TIMEZONE:America/New_York
BEGIN:VEVENT
UID:match-5619675@streamradar.soccer
SUMMARY:Deren vs Khoromkhon
DTSTAMP:20260423T140355Z
DTSTART;TZID=America/New_York:20260520T030000
DTEND;TZID=America/New_York:20260520T050000
DESCRIPTION:Где смотреть Deren – Khoromkhon в турнире 
 Монголия - Премьер-лига Монголии. Прямая 
 рансляция и телепрограмма.\nhttps://streamradar.soc
 cer/ru/match/5619675/deren-vs-khoromkhon/
URL;VALUE=URI:https://streamradar.soccer/ru/match/5619675/deren-vs-khoromkh
 on/
STATUS:CONFIRMED
END:VEVENT
END:VCALENDAR
