BEGIN:VCALENDAR
VERSION:2.0
PRODID:-//StreamRadar//Match Calendar//EN
CALSCALE:GREGORIAN
METHOD:PUBLISH
X-WR-CALNAME:Ulaanbaatar vs Khovd Western
X-WR-TIMEZONE:America/New_York
BEGIN:VEVENT
UID:match-5619664@streamradar.soccer
SUMMARY:Ulaanbaatar vs Khovd Western
DTSTAMP:20260423T141419Z
DTSTART;TZID=America/New_York:20260506T060000
DTEND;TZID=America/New_York:20260506T080000
DESCRIPTION:Где смотреть Ulaanbaatar – Khovd Western в тур
 нире Монголия - Премьер-лига Монголии. Пр
 мая трансляция и телепрограмма.\nhttps://stream
 radar.soccer/ru/match/5619664/ulaanbaatar-vs-khovd-western/
URL;VALUE=URI:https://streamradar.soccer/ru/match/5619664/ulaanbaatar-vs-kh
 ovd-western/
STATUS:CONFIRMED
END:VEVENT
END:VCALENDAR
