BEGIN:VCALENDAR
VERSION:2.0
PRODID:-//StreamRadar//Match Calendar//EN
CALSCALE:GREGORIAN
METHOD:PUBLISH
X-WR-CALNAME:Manchester United U21 vs Sunderland U21
X-WR-TIMEZONE:America/New_York
BEGIN:VEVENT
UID:match-5619607@streamradar.soccer
SUMMARY:Manchester United U21 vs Sunderland U21
DTSTAMP:20260423T124630Z
DTSTART;TZID=America/New_York:20260426T090000
DTEND;TZID=America/New_York:20260426T110000
LOCATION:Old Trafford
DESCRIPTION:Где смотреть Manchester United до 21 – Sunderlan
 d до 21 в турнире Англия - Premier League 2. Прямая 
 рансляция и телепрограмма.\nhttps://streamradar.soc
 cer/ru/match/5619607/manchester-united-u21-vs-sunderland-u21/
URL;VALUE=URI:https://streamradar.soccer/ru/match/5619607/manchester-united
 -u21-vs-sunderland-u21/
STATUS:CONFIRMED
END:VEVENT
END:VCALENDAR
