BEGIN:VCALENDAR
VERSION:2.0
PRODID:-//StreamRadar//Match Calendar//EN
CALSCALE:GREGORIAN
METHOD:PUBLISH
X-WR-CALNAME:Chelsea U21 vs Middlesbrough U21
X-WR-TIMEZONE:America/New_York
BEGIN:VEVENT
UID:match-5619604@streamradar.soccer
SUMMARY:Chelsea U21 vs Middlesbrough U21
DTSTAMP:20260423T123322Z
DTSTART;TZID=America/New_York:20260425T090000
DTEND;TZID=America/New_York:20260425T110000
LOCATION:Kingsmeadow
DESCRIPTION:Где смотреть Chelsea до 21 – Middlesbrough до 
 21 в турнире Англия - Premier League 2. Прямая тран
 сляция и телепрограмма.\nhttps://streamradar.soccer/ru/
 match/5619604/chelsea-u21-vs-middlesbrough-u21/
URL;VALUE=URI:https://streamradar.soccer/ru/match/5619604/chelsea-u21-vs-mi
 ddlesbrough-u21/
STATUS:CONFIRMED
END:VEVENT
END:VCALENDAR
