BEGIN:VCALENDAR
VERSION:2.0
PRODID:-//StreamRadar//Match Calendar//EN
CALSCALE:GREGORIAN
METHOD:PUBLISH
X-WR-CALNAME:Honka vs EPS
X-WR-TIMEZONE:America/New_York
BEGIN:VEVENT
UID:match-5619596@streamradar.soccer
SUMMARY:Honka vs EPS
DTSTAMP:20260423T141154Z
DTSTART;TZID=America/New_York:20260522T113000
DTEND;TZID=America/New_York:20260522T133000
LOCATION:Tapiolan Urheilupuisto
DESCRIPTION:Где смотреть Honka – EPS в турнире Фин
 яндия - Kakkonen. Прямая трансляция и телепро
 грамма.\nhttps://streamradar.soccer/ru/match/5619596/honka-vs-eps/
URL;VALUE=URI:https://streamradar.soccer/ru/match/5619596/honka-vs-eps/
STATUS:CONFIRMED
END:VEVENT
END:VCALENDAR
