BEGIN:VCALENDAR
VERSION:2.0
PRODID:-//StreamRadar//Match Calendar//EN
CALSCALE:GREGORIAN
METHOD:PUBLISH
X-WR-CALNAME:SSV Merten vs Porz
X-WR-TIMEZONE:America/New_York
BEGIN:VEVENT
UID:match-5619571@streamradar.soccer
SUMMARY:SSV Merten vs Porz
DTSTAMP:20260423T133521Z
DTSTART;TZID=America/New_York:20260522T140000
DTEND;TZID=America/New_York:20260522T160000
DESCRIPTION:Где смотреть SSV Merten – Porz в турнире 
 ермания - Оберлига. Прямая трансляция и т
 елепрограмма.\nhttps://streamradar.soccer/ru/match/5619571/ssv-
 merten-vs-porz/
URL;VALUE=URI:https://streamradar.soccer/ru/match/5619571/ssv-merten-vs-por
 z/
STATUS:CONFIRMED
END:VEVENT
END:VCALENDAR
