BEGIN:VCALENDAR
VERSION:2.0
PRODID:-//StreamRadar//Match Calendar//EN
CALSCALE:GREGORIAN
METHOD:PUBLISH
X-WR-CALNAME:PoPo vs MYPA
X-WR-TIMEZONE:America/New_York
BEGIN:VEVENT
UID:match-5619550@streamradar.soccer
SUMMARY:PoPo vs MYPA
DTSTAMP:20260423T140713Z
DTSTART;TZID=America/New_York:20260429T090000
DTEND;TZID=America/New_York:20260429T110000
DESCRIPTION:Где смотреть PoPo – MYPA в турнире Фин
 яндия - Кубок Финляндии. Прямая трансляц
 я и телепрограмма.\nhttps://streamradar.soccer/ru/match/561
 9550/popo-vs-mypa/
URL;VALUE=URI:https://streamradar.soccer/ru/match/5619550/popo-vs-mypa/
STATUS:CONFIRMED
END:VEVENT
END:VCALENDAR
