BEGIN:VCALENDAR
VERSION:2.0
PRODID:-//StreamRadar//Match Calendar//EN
CALSCALE:GREGORIAN
METHOD:PUBLISH
X-WR-CALNAME:VJS II vs KäPa
X-WR-TIMEZONE:America/New_York
BEGIN:VEVENT
UID:match-5619541@streamradar.soccer
SUMMARY:VJS II vs KäPa
DTSTAMP:20260423T140511Z
DTSTART;TZID=America/New_York:20260428T130000
DTEND;TZID=America/New_York:20260428T150000
DESCRIPTION:Где смотреть VJS II – KäPa в турнире Фи
 нляндия - Кубок Финляндии. Прямая трансля
 ция и телепрограмма.\nhttps://streamradar.soccer/ru/match/
 5619541/vjs-ii-vs-kapa/
URL;VALUE=URI:https://streamradar.soccer/ru/match/5619541/vjs-ii-vs-kapa/
STATUS:CONFIRMED
END:VEVENT
END:VCALENDAR
