BEGIN:VCALENDAR
VERSION:2.0
PRODID:-//StreamRadar//Match Calendar//EN
CALSCALE:GREGORIAN
METHOD:PUBLISH
X-WR-CALNAME:JPS vs MP
X-WR-TIMEZONE:America/New_York
BEGIN:VEVENT
UID:match-5619539@streamradar.soccer
SUMMARY:JPS vs MP
DTSTAMP:20260423T141250Z
DTSTART;TZID=America/New_York:20260428T120000
DTEND;TZID=America/New_York:20260428T140000
LOCATION:Viitaniemi TN
DESCRIPTION:Где смотреть JPS – MP в турнире Финля
 ндия - Кубок Финляндии. Прямая трансляция
  и телепрограмма.\nhttps://streamradar.soccer/ru/match/561953
 9/jps-vs-mp/
URL;VALUE=URI:https://streamradar.soccer/ru/match/5619539/jps-vs-mp/
STATUS:CONFIRMED
END:VEVENT
END:VCALENDAR
