BEGIN:VCALENDAR
VERSION:2.0
PRODID:-//StreamRadar//Match Calendar//EN
CALSCALE:GREGORIAN
METHOD:PUBLISH
X-WR-CALNAME:Yenisey vs Arsenal Tula
X-WR-TIMEZONE:America/New_York
BEGIN:VEVENT
UID:match-5619504@streamradar.soccer
SUMMARY:Yenisey vs Arsenal Tula
DTSTAMP:20260424T012126Z
DTSTART;TZID=America/New_York:20260511T100000
DTEND;TZID=America/New_York:20260511T120000
LOCATION:Tsentralnyi Stadion
DESCRIPTION:Где смотреть Енисей – Арсенал (Тул
 а) в турнире Россия - ФНЛ. Прямая трансляц
 я и телепрограмма.\nhttps://streamradar.soccer/ru/match/561
 9504/yenisey-vs-arsenal-tula/
URL;VALUE=URI:https://streamradar.soccer/ru/match/5619504/yenisey-vs-arsena
 l-tula/
STATUS:CONFIRMED
END:VEVENT
END:VCALENDAR
