BEGIN:VCALENDAR
VERSION:2.0
PRODID:-//StreamRadar//Match Calendar//EN
CALSCALE:GREGORIAN
METHOD:PUBLISH
X-WR-CALNAME:Neftekhimik vs Volga Ulyanovsk
X-WR-TIMEZONE:America/New_York
BEGIN:VEVENT
UID:match-5619500@streamradar.soccer
SUMMARY:Neftekhimik vs Volga Ulyanovsk
DTSTAMP:20260423T220313Z
DTSTART;TZID=America/New_York:20260510T100000
DTEND;TZID=America/New_York:20260510T120000
LOCATION:Neftekhimik Stadium
DESCRIPTION:Где смотреть Нефтехимик – Волга (У
 льяновск) в турнире Россия - ФНЛ. Прямая т
 ансляция и телепрограмма.\nhttps://streamradar.socce
 r/ru/match/5619500/neftekhimik-vs-volga-ulyanovsk/
URL;VALUE=URI:https://streamradar.soccer/ru/match/5619500/neftekhimik-vs-vo
 lga-ulyanovsk/
STATUS:CONFIRMED
END:VEVENT
END:VCALENDAR
