BEGIN:VCALENDAR
VERSION:2.0
PRODID:-//StreamRadar//Match Calendar//EN
CALSCALE:GREGORIAN
METHOD:PUBLISH
X-WR-CALNAME:Chayka vs Chernomorets
X-WR-TIMEZONE:America/New_York
BEGIN:VEVENT
UID:match-5619496@streamradar.soccer
SUMMARY:Chayka vs Chernomorets
DTSTAMP:20260424T090931Z
DTSTART;TZID=America/New_York:20260508T100000
DTEND;TZID=America/New_York:20260508T120000
LOCATION:Chayka Central Stadium
DESCRIPTION:Где смотреть Чайка (Песчанокопско
 ) – Черноморец Новороссийск в турнире Ро
 ссия - ФНЛ. Прямая трансляция и телепрогр
 мма.\nhttps://streamradar.soccer/ru/match/5619496/chayka-vs-chernomoret
 s/
URL;VALUE=URI:https://streamradar.soccer/ru/match/5619496/chayka-vs-chernom
 orets/
STATUS:CONFIRMED
END:VEVENT
END:VCALENDAR
