BEGIN:VCALENDAR
VERSION:2.0
PRODID:-//StreamRadar//Match Calendar//EN
CALSCALE:GREGORIAN
METHOD:PUBLISH
X-WR-CALNAME:São Caetano vs Penapolense
X-WR-TIMEZONE:America/New_York
BEGIN:VEVENT
UID:match-5619004@streamradar.soccer
SUMMARY:São Caetano vs Penapolense
DTSTAMP:20260422T181633Z
DTSTART;TZID=America/New_York:20260502T140000
DTEND;TZID=America/New_York:20260502T160000
DESCRIPTION:Где смотреть São Caetano – Penapolense в тур
 ире Бразилия - Campeonato Paulista A4. Прямая транс
 яция и телепрограмма.\nhttps://streamradar.soccer/ru/mat
 ch/5619004/sao-caetano-vs-penapolense/
URL;VALUE=URI:https://streamradar.soccer/ru/match/5619004/sao-caetano-vs-pe
 napolense/
STATUS:CONFIRMED
END:VEVENT
END:VCALENDAR
