BEGIN:VCALENDAR
VERSION:2.0
PRODID:-//StreamRadar//Match Calendar//EN
CALSCALE:GREGORIAN
METHOD:PUBLISH
X-WR-CALNAME:Melbourne City vs Beleza
X-WR-TIMEZONE:America/New_York
BEGIN:VEVENT
UID:match-5618998@streamradar.soccer
SUMMARY:Melbourne City vs Beleza
DTSTAMP:20260422T092242Z
DTSTART;TZID=America/New_York:20260520T010000
DTEND;TZID=America/New_York:20260520T030000
DESCRIPTION:Где смотреть Melbourne City – Beleza в турни
 ре AFC Women's Champions League. Прямая трансляция и т
 лепрограмма.\nhttps://streamradar.soccer/ru/match/5618998/melbo
 urne-city-vs-beleza/
URL;VALUE=URI:https://streamradar.soccer/ru/match/5618998/melbourne-city-vs
 -beleza/
STATUS:CONFIRMED
END:VEVENT
END:VCALENDAR
