BEGIN:VCALENDAR
VERSION:2.0
PRODID:-//StreamRadar//Match Calendar//EN
CALSCALE:GREGORIAN
METHOD:PUBLISH
X-WR-CALNAME:Khovd Western vs Deren
X-WR-TIMEZONE:America/New_York
BEGIN:VEVENT
UID:match-5618995@streamradar.soccer
SUMMARY:Khovd Western vs Deren
DTSTAMP:20260422T120823Z
DTSTART;TZID=America/New_York:20260503T030000
DTEND;TZID=America/New_York:20260503T050000
DESCRIPTION:Где смотреть Khovd Western – Deren в турнир
 е Монголия - Премьер-лига Монголии. Пряма
  трансляция и телепрограмма.\nhttps://streamradar.
 soccer/ru/match/5618995/khovd-western-vs-deren/
URL;VALUE=URI:https://streamradar.soccer/ru/match/5618995/khovd-western-vs-
 deren/
STATUS:CONFIRMED
END:VEVENT
END:VCALENDAR
