BEGIN:VCALENDAR
VERSION:2.0
PRODID:-//StreamRadar//Match Calendar//EN
CALSCALE:GREGORIAN
METHOD:PUBLISH
X-WR-CALNAME:Khangarid vs Khoromkhon
X-WR-TIMEZONE:America/New_York
BEGIN:VEVENT
UID:match-5618992@streamradar.soccer
SUMMARY:Khangarid vs Khoromkhon
DTSTAMP:20260422T120750Z
DTSTART;TZID=America/New_York:20260502T030000
DTEND;TZID=America/New_York:20260502T050000
DESCRIPTION:Где смотреть Khangarid – Khoromkhon в турни
 е Монголия - Премьер-лига Монголии. Пряма
 я трансляция и телепрограмма.\nhttps://streamradar
 .soccer/ru/match/5618992/khangarid-vs-khoromkhon/
URL;VALUE=URI:https://streamradar.soccer/ru/match/5618992/khangarid-vs-khor
 omkhon/
STATUS:CONFIRMED
END:VEVENT
END:VCALENDAR
