BEGIN:VCALENDAR
VERSION:2.0
PRODID:-//StreamRadar//Match Calendar//EN
CALSCALE:GREGORIAN
METHOD:PUBLISH
X-WR-CALNAME:Orlando City B vs Crown Legacy
X-WR-TIMEZONE:America/New_York
BEGIN:VEVENT
UID:match-5618981@streamradar.soccer
SUMMARY:Orlando City B vs Crown Legacy
DTSTAMP:20260422T121031Z
DTSTART;TZID=America/New_York:20260503T190000
DTEND;TZID=America/New_York:20260503T210000
LOCATION:Osceola County Stadium
DESCRIPTION:Где смотреть Сентрал Флорида Крей
  – Crown Legacy в турнире MLS Next Pro. Прямая транс
 яция и телепрограмма.\nhttps://streamradar.soccer/ru/mat
 ch/5618981/orlando-city-b-vs-crown-legacy/
URL;VALUE=URI:https://streamradar.soccer/ru/match/5618981/orlando-city-b-vs
 -crown-legacy/
STATUS:CONFIRMED
END:VEVENT
END:VCALENDAR
