BEGIN:VCALENDAR
VERSION:2.0
PRODID:-//StreamRadar//Match Calendar//EN
CALSCALE:GREGORIAN
METHOD:PUBLISH
X-WR-CALNAME:Philadelphia Union II vs New York RB II
X-WR-TIMEZONE:America/New_York
BEGIN:VEVENT
UID:match-5618976@streamradar.soccer
SUMMARY:Philadelphia Union II vs New York RB II
DTSTAMP:20260422T121655Z
DTSTART;TZID=America/New_York:20260503T150000
DTEND;TZID=America/New_York:20260503T170000
LOCATION:Subaru Park
DESCRIPTION:Где смотреть Philadelphia Union II – New York RB I
 I в турнире MLS Next Pro. Прямая трансляция и те
 лепрограмма.\nhttps://streamradar.soccer/ru/match/5618976/philad
 elphia-union-ii-vs-new-york-rb-ii/
URL;VALUE=URI:https://streamradar.soccer/ru/match/5618976/philadelphia-unio
 n-ii-vs-new-york-rb-ii/
STATUS:CONFIRMED
END:VEVENT
END:VCALENDAR
