BEGIN:VCALENDAR
VERSION:2.0
PRODID:-//StreamRadar//Match Calendar//EN
CALSCALE:GREGORIAN
METHOD:PUBLISH
X-WR-CALNAME:Buriram United vs Ayutthaya United
X-WR-TIMEZONE:America/New_York
BEGIN:VEVENT
UID:match-5618939@streamradar.soccer
SUMMARY:Buriram United vs Ayutthaya United
DTSTAMP:20260422T101232Z
DTSTART;TZID=America/New_York:20260517T060000
DTEND;TZID=America/New_York:20260517T080000
LOCATION:Chang Arena
DESCRIPTION:Где смотреть Бурирам ПЕА – Ayutthaya Uni
 ted в турнире Кубок Таиланда. Прямая транс
 яция и телепрограмма.\nhttps://streamradar.soccer/ru/mat
 ch/5618939/buriram-united-vs-ayutthaya-united/
URL;VALUE=URI:https://streamradar.soccer/ru/match/5618939/buriram-united-vs
 -ayutthaya-united/
STATUS:CONFIRMED
END:VEVENT
END:VCALENDAR
