BEGIN:VCALENDAR
VERSION:2.0
PRODID:-//StreamRadar//Match Calendar//EN
CALSCALE:GREGORIAN
METHOD:PUBLISH
X-WR-CALNAME:Black Lions vs Calendar Stars
X-WR-TIMEZONE:America/New_York
BEGIN:VEVENT
UID:match-5618880@streamradar.soccer
SUMMARY:Black Lions vs Calendar Stars
DTSTAMP:20260422T104226Z
DTSTART;TZID=America/New_York:20260425T093000
DTEND;TZID=America/New_York:20260425T113000
DESCRIPTION:Где смотреть Black Lions – Calendar Stars в ту
 нире Ботсвана - Premier League. Прямая трансляц
 я и телепрограмма.\nhttps://streamradar.soccer/ru/match/561
 8880/black-lions-vs-calendar-stars/
URL;VALUE=URI:https://streamradar.soccer/ru/match/5618880/black-lions-vs-ca
 lendar-stars/
STATUS:CONFIRMED
END:VEVENT
END:VCALENDAR
