BEGIN:VCALENDAR
VERSION:2.0
PRODID:-//StreamRadar//Match Calendar//EN
CALSCALE:GREGORIAN
METHOD:PUBLISH
X-WR-CALNAME:Real Apodaca vs Inter Playa del Carmen
X-WR-TIMEZONE:America/New_York
BEGIN:VEVENT
UID:match-5618877@streamradar.soccer
SUMMARY:Real Apodaca vs Inter Playa del Carmen
DTSTAMP:20260422T105129Z
DTSTART;TZID=America/New_York:20260426T160000
DTEND;TZID=America/New_York:20260426T180000
DESCRIPTION:Где смотреть Real Apodaca – Inter Playa Del Carmen
  в турнире Мексика - Liga MX. Прямая трансляц
 я и телепрограмма.\nhttps://streamradar.soccer/ru/match/561
 8877/real-apodaca-vs-inter-playa-del-carmen/
URL;VALUE=URI:https://streamradar.soccer/ru/match/5618877/real-apodaca-vs-i
 nter-playa-del-carmen/
STATUS:CONFIRMED
END:VEVENT
END:VCALENDAR
