BEGIN:VCALENDAR
VERSION:2.0
PRODID:-//StreamRadar//Match Calendar//EN
CALSCALE:GREGORIAN
METHOD:PUBLISH
X-WR-CALNAME:Nassaji Mazandaran vs Navad Urmia
X-WR-TIMEZONE:America/New_York
BEGIN:VEVENT
UID:match-5618866@streamradar.soccer
SUMMARY:Nassaji Mazandaran vs Navad Urmia
DTSTAMP:20260422T110218Z
DTSTART;TZID=America/New_York:20260521T091500
DTEND;TZID=America/New_York:20260521T111500
LOCATION:Vatani Stadium
DESCRIPTION:Где смотреть Нассаджи Мазандаран 
  Navad Urmia в турнире Иран - Лига Азадеган. Пр
 ямая трансляция и телепрограмма.\nhttps://strea
 mradar.soccer/ru/match/5618866/nassaji-mazandaran-vs-navad-urmia/
URL;VALUE=URI:https://streamradar.soccer/ru/match/5618866/nassaji-mazandara
 n-vs-navad-urmia/
STATUS:CONFIRMED
END:VEVENT
END:VCALENDAR
