BEGIN:VCALENDAR
VERSION:2.0
PRODID:-//StreamRadar//Match Calendar//EN
CALSCALE:GREGORIAN
METHOD:PUBLISH
X-WR-CALNAME:Shahrdari Noshahr vs Fard Alborz
X-WR-TIMEZONE:America/New_York
BEGIN:VEVENT
UID:match-5618854@streamradar.soccer
SUMMARY:Shahrdari Noshahr vs Fard Alborz
DTSTAMP:20260422T092540Z
DTSTART;TZID=America/New_York:20260514T090000
DTEND;TZID=America/New_York:20260514T110000
DESCRIPTION:Где смотреть Shahrdari Noshahr – Fard Alborz в т
 урнире Иран - Лига Азадеган. Прямая транс
 яция и телепрограмма.\nhttps://streamradar.soccer/ru/mat
 ch/5618854/shahrdari-noshahr-vs-fard-alborz/
URL;VALUE=URI:https://streamradar.soccer/ru/match/5618854/shahrdari-noshahr
 -vs-fard-alborz/
STATUS:CONFIRMED
END:VEVENT
END:VCALENDAR
