BEGIN:VCALENDAR
VERSION:2.0
PRODID:-//StreamRadar//Match Calendar//EN
CALSCALE:GREGORIAN
METHOD:PUBLISH
X-WR-CALNAME:Namungo vs Mbeya City
X-WR-TIMEZONE:America/New_York
BEGIN:VEVENT
UID:match-5618849@streamradar.soccer
SUMMARY:Namungo vs Mbeya City
DTSTAMP:20260422T121557Z
DTSTART;TZID=America/New_York:20260521T140000
DTEND;TZID=America/New_York:20260521T160000
LOCATION:Majaliwa Stadium
DESCRIPTION:Где смотреть Namungo – Mbeya City в турнир
  Tanzania Premier League. Прямая трансляция и телеп
 ограмма.\nhttps://streamradar.soccer/ru/match/5618849/namungo-vs-mb
 eya-city/
URL;VALUE=URI:https://streamradar.soccer/ru/match/5618849/namungo-vs-mbeya-
 city/
STATUS:CONFIRMED
END:VEVENT
END:VCALENDAR
