BEGIN:VCALENDAR
VERSION:2.0
PRODID:-//StreamRadar//Match Calendar//EN
CALSCALE:GREGORIAN
METHOD:PUBLISH
X-WR-CALNAME:Dodoma Jiji vs Mashujaa
X-WR-TIMEZONE:America/New_York
BEGIN:VEVENT
UID:match-5618846@streamradar.soccer
SUMMARY:Dodoma Jiji vs Mashujaa
DTSTAMP:20260422T121527Z
DTSTART;TZID=America/New_York:20260520T140000
DTEND;TZID=America/New_York:20260520T160000
LOCATION:Jamhuri Stadium
DESCRIPTION:Где смотреть Dodoma Jiji – Mashujaa в турни
 е Tanzania Premier League. Прямая трансляция и теле
 рограмма.\nhttps://streamradar.soccer/ru/match/5618846/dodoma-jiji
 -vs-mashujaa/
URL;VALUE=URI:https://streamradar.soccer/ru/match/5618846/dodoma-jiji-vs-ma
 shujaa/
STATUS:CONFIRMED
END:VEVENT
END:VCALENDAR
