BEGIN:VCALENDAR
VERSION:2.0
PRODID:-//StreamRadar//Match Calendar//EN
CALSCALE:GREGORIAN
METHOD:PUBLISH
X-WR-CALNAME:Hapoel Kfar Saba vs Maccabi Herzliya
X-WR-TIMEZONE:America/New_York
BEGIN:VEVENT
UID:match-5618826@streamradar.soccer
SUMMARY:Hapoel Kfar Saba vs Maccabi Herzliya
DTSTAMP:20260422T101117Z
DTSTART;TZID=America/New_York:20260519T120000
DTEND;TZID=America/New_York:20260519T140000
DESCRIPTION:Где смотреть Хапоэль (Кфар-Сава) – 
 Маккаби (Герцлия) в турнире Израиль - Лига
  Леумит. Прямая трансляция и телепрограм
 а.\nhttps://streamradar.soccer/ru/match/5618826/hapoel-kfar-saba-vs-macca
 bi-herzliya/
URL;VALUE=URI:https://streamradar.soccer/ru/match/5618826/hapoel-kfar-saba-
 vs-maccabi-herzliya/
STATUS:CONFIRMED
END:VEVENT
END:VCALENDAR
