BEGIN:VCALENDAR
VERSION:2.0
PRODID:-//StreamRadar//Match Calendar//EN
CALSCALE:GREGORIAN
METHOD:PUBLISH
X-WR-CALNAME:Hapoel Kfar Shalem vs Hapoel Ramat Gan
X-WR-TIMEZONE:America/New_York
BEGIN:VEVENT
UID:match-5618821@streamradar.soccer
SUMMARY:Hapoel Kfar Shalem vs Hapoel Ramat Gan
DTSTAMP:20260422T123340Z
DTSTART;TZID=America/New_York:20260515T090000
DTEND;TZID=America/New_York:20260515T110000
DESCRIPTION:Где смотреть Hapoel Kfar Shalem – Хапоэль (
 Рамат-Ган) в турнире Израиль - Лига Леумит
 . Прямая трансляция и телепрограмма.\nhttps:/
 /streamradar.soccer/ru/match/5618821/hapoel-kfar-shalem-vs-hapoel-ramat-gan
 /
URL;VALUE=URI:https://streamradar.soccer/ru/match/5618821/hapoel-kfar-shale
 m-vs-hapoel-ramat-gan/
STATUS:CONFIRMED
END:VEVENT
END:VCALENDAR
