BEGIN:VCALENDAR
VERSION:2.0
PRODID:-//StreamRadar//Match Calendar//EN
CALSCALE:GREGORIAN
METHOD:PUBLISH
X-WR-CALNAME:Kiryat Yam SC vs Bnei Yehuda
X-WR-TIMEZONE:America/New_York
BEGIN:VEVENT
UID:match-5618819@streamradar.soccer
SUMMARY:Kiryat Yam SC vs Bnei Yehuda
DTSTAMP:20260422T133701Z
DTSTART;TZID=America/New_York:20260515T090000
DTEND;TZID=America/New_York:20260515T110000
DESCRIPTION:Где смотреть Kiryat Yam SC – Бней Иегуда
  в турнире Израиль - Лига Леумит. Прямая т
 ансляция и телепрограмма.\nhttps://streamradar.socce
 r/ru/match/5618819/kiryat-yam-sc-vs-bnei-yehuda/
URL;VALUE=URI:https://streamradar.soccer/ru/match/5618819/kiryat-yam-sc-vs-
 bnei-yehuda/
STATUS:CONFIRMED
END:VEVENT
END:VCALENDAR
