BEGIN:VCALENDAR
VERSION:2.0
PRODID:-//StreamRadar//Match Calendar//EN
CALSCALE:GREGORIAN
METHOD:PUBLISH
X-WR-CALNAME:Kiryat Yam SC vs Hapoel Kfar Saba
X-WR-TIMEZONE:America/New_York
BEGIN:VEVENT
UID:match-5618817@streamradar.soccer
SUMMARY:Kiryat Yam SC vs Hapoel Kfar Saba
DTSTAMP:20260423T140834Z
DTSTART;TZID=America/New_York:20260511T120000
DTEND;TZID=America/New_York:20260511T140000
DESCRIPTION:Где смотреть Хапоэль (Кфар-Сава) – 
 Хапоэль (Кфар-Сава) в турнире Израиль - Ли
 а Леумит. Прямая трансляция и телепрогра
 мма.\nhttps://streamradar.soccer/ru/match/5618817/kiryat-yam-sc-vs-hapoe
 l-kfar-saba/
URL;VALUE=URI:https://streamradar.soccer/ru/match/5618817/kiryat-yam-sc-vs-
 hapoel-kfar-saba/
STATUS:CONFIRMED
END:VEVENT
END:VCALENDAR
