BEGIN:VCALENDAR
VERSION:2.0
PRODID:-//StreamRadar//Match Calendar//EN
CALSCALE:GREGORIAN
METHOD:PUBLISH
X-WR-CALNAME:Hapoel Kfar Shalem vs Bnei Yehuda
X-WR-TIMEZONE:America/New_York
BEGIN:VEVENT
UID:match-5618815@streamradar.soccer
SUMMARY:Hapoel Kfar Shalem vs Bnei Yehuda
DTSTAMP:20260422T123308Z
DTSTART;TZID=America/New_York:20260508T090000
DTEND;TZID=America/New_York:20260508T110000
DESCRIPTION:Где смотреть Hapoel Kfar Shalem – Бней Иег
 да в турнире Израиль - Лига Леумит. Пряма
  трансляция и телепрограмма.\nhttps://streamradar.
 soccer/ru/match/5618815/hapoel-kfar-shalem-vs-bnei-yehuda/
URL;VALUE=URI:https://streamradar.soccer/ru/match/5618815/hapoel-kfar-shale
 m-vs-bnei-yehuda/
STATUS:CONFIRMED
END:VEVENT
END:VCALENDAR
