BEGIN:VCALENDAR
VERSION:2.0
PRODID:-//StreamRadar//Match Calendar//EN
CALSCALE:GREGORIAN
METHOD:PUBLISH
X-WR-CALNAME:Hapoel Rishon LeZion vs Kiryat Yam SC
X-WR-TIMEZONE:America/New_York
BEGIN:VEVENT
UID:match-5618813@streamradar.soccer
SUMMARY:Hapoel Rishon LeZion vs Kiryat Yam SC
DTSTAMP:20260422T135447Z
DTSTART;TZID=America/New_York:20260505T120000
DTEND;TZID=America/New_York:20260505T140000
DESCRIPTION:Где смотреть Хапоэль (Ришон-ле-Цио
 ) – Kiryat Yam SC в турнире Израиль - Лига Леуми
 т. Прямая трансляция и телепрограмма.\nhttps
 ://streamradar.soccer/ru/match/5618813/hapoel-rishon-lezion-vs-kiryat-yam-s
 c/
URL;VALUE=URI:https://streamradar.soccer/ru/match/5618813/hapoel-rishon-lez
 ion-vs-kiryat-yam-sc/
STATUS:CONFIRMED
END:VEVENT
END:VCALENDAR
