BEGIN:VCALENDAR
VERSION:2.0
PRODID:-//StreamRadar//Match Calendar//EN
CALSCALE:GREGORIAN
METHOD:PUBLISH
X-WR-CALNAME:Maccabi Petah Tikva vs Maccabi Herzliya
X-WR-TIMEZONE:America/New_York
BEGIN:VEVENT
UID:match-5618810@streamradar.soccer
SUMMARY:Maccabi Petah Tikva vs Maccabi Herzliya
DTSTAMP:20260422T101225Z
DTSTART;TZID=America/New_York:20260501T090000
DTEND;TZID=America/New_York:20260501T110000
LOCATION:HaMoshava Stadium
DESCRIPTION:Где смотреть Маккаби (Петах-Тиква) 
 – Маккаби (Герцлия) в турнире Израиль - Ли
 га Леумит. Прямая трансляция и телепрогр
 мма.\nhttps://streamradar.soccer/ru/match/5618810/maccabi-petah-tikva-v
 s-maccabi-herzliya/
URL;VALUE=URI:https://streamradar.soccer/ru/match/5618810/maccabi-petah-tik
 va-vs-maccabi-herzliya/
STATUS:CONFIRMED
END:VEVENT
END:VCALENDAR
