BEGIN:VCALENDAR
VERSION:2.0
PRODID:-//StreamRadar//Match Calendar//EN
CALSCALE:GREGORIAN
METHOD:PUBLISH
X-WR-CALNAME:Maccabi Petah Tikva vs Hapoel Kfar Shalem
X-WR-TIMEZONE:America/New_York
BEGIN:VEVENT
UID:match-5618803@streamradar.soccer
SUMMARY:Maccabi Petah Tikva vs Hapoel Kfar Shalem
DTSTAMP:20260422T114231Z
DTSTART;TZID=America/New_York:20260424T090000
DTEND;TZID=America/New_York:20260424T110000
LOCATION:HaMoshava Stadium
DESCRIPTION:Где смотреть Маккаби (Петах-Тиква) 
 – Hapoel Kfar Shalem в турнире Израиль - Лига Леум
 ит. Прямая трансляция и телепрограмма.\nhtt
 ps://streamradar.soccer/ru/match/5618803/maccabi-petah-tikva-vs-hapoel-kfar
 -shalem/
URL;VALUE=URI:https://streamradar.soccer/ru/match/5618803/maccabi-petah-tik
 va-vs-hapoel-kfar-shalem/
STATUS:CONFIRMED
END:VEVENT
END:VCALENDAR
