BEGIN:VCALENDAR
VERSION:2.0
PRODID:-//StreamRadar//Match Calendar//EN
CALSCALE:GREGORIAN
METHOD:PUBLISH
X-WR-CALNAME:Hapoel Acre vs Ironi Modi'in
X-WR-TIMEZONE:America/New_York
BEGIN:VEVENT
UID:match-5618796@streamradar.soccer
SUMMARY:Hapoel Acre vs Ironi Modi'in
DTSTAMP:20260422T104127Z
DTSTART;TZID=America/New_York:20260514T120000
DTEND;TZID=America/New_York:20260514T140000
DESCRIPTION:Где смотреть Хапоэль (Акре) – Ironi Mod
 i'in в турнире Израиль - Лига Леумит. Прямая
  трансляция и телепрограмма.\nhttps://streamradar.s
 occer/ru/match/5618796/hapoel-acre-vs-ironi-modiin/
URL;VALUE=URI:https://streamradar.soccer/ru/match/5618796/hapoel-acre-vs-ir
 oni-modiin/
STATUS:CONFIRMED
END:VEVENT
END:VCALENDAR
