BEGIN:VCALENDAR
VERSION:2.0
PRODID:-//StreamRadar//Match Calendar//EN
CALSCALE:GREGORIAN
METHOD:PUBLISH
X-WR-CALNAME:Hapoel Afula vs Ironi Modi'in
X-WR-TIMEZONE:America/New_York
BEGIN:VEVENT
UID:match-5618779@streamradar.soccer
SUMMARY:Hapoel Afula vs Ironi Modi'in
DTSTAMP:20260422T113559Z
DTSTART;TZID=America/New_York:20260424T090000
DTEND;TZID=America/New_York:20260424T110000
DESCRIPTION:Где смотреть Хапоэль (Афула) – Ironi M
 odi'in в турнире Израиль - Лига Леумит. Пряма
 я трансляция и телепрограмма.\nhttps://streamradar
 .soccer/ru/match/5618779/hapoel-afula-vs-ironi-modiin/
URL;VALUE=URI:https://streamradar.soccer/ru/match/5618779/hapoel-afula-vs-i
 roni-modiin/
STATUS:CONFIRMED
END:VEVENT
END:VCALENDAR
