BEGIN:VCALENDAR
VERSION:2.0
PRODID:-//StreamRadar//Match Calendar//EN
CALSCALE:GREGORIAN
METHOD:PUBLISH
X-WR-CALNAME:Sassuolo vs Genoa
X-WR-TIMEZONE:America/New_York
BEGIN:VEVENT
UID:match-5618743@streamradar.soccer
SUMMARY:Sassuolo vs Genoa
DTSTAMP:20260422T091129Z
DTSTART;TZID=America/New_York:20260503T090000
DTEND;TZID=America/New_York:20260503T110000
LOCATION:Stadio Enzo Ricci
DESCRIPTION:Где смотреть Sassuolo – Genoa в турнире С
 ерия А (женщины). Прямая трансляция и теле
 программа.\nhttps://streamradar.soccer/ru/match/5618743/sassuolo-v
 s-genoa/
URL;VALUE=URI:https://streamradar.soccer/ru/match/5618743/sassuolo-vs-genoa
 /
STATUS:CONFIRMED
END:VEVENT
END:VCALENDAR
