BEGIN:VCALENDAR
VERSION:2.0
PRODID:-//StreamRadar//Match Calendar//EN
CALSCALE:GREGORIAN
METHOD:PUBLISH
X-WR-CALNAME:Napoli vs Juventus
X-WR-TIMEZONE:America/New_York
BEGIN:VEVENT
UID:match-5618741@streamradar.soccer
SUMMARY:Napoli vs Juventus
DTSTAMP:20260422T091128Z
DTSTART;TZID=America/New_York:20260503T090000
DTEND;TZID=America/New_York:20260503T110000
LOCATION:Stadio Giuseppe Piccolo
DESCRIPTION:Где смотреть Napoli – Juventus в турнире 
 ерия А (женщины). Прямая трансляция и тел
 программа.\nhttps://streamradar.soccer/ru/match/5618741/napoli-vs
 -juventus/
URL;VALUE=URI:https://streamradar.soccer/ru/match/5618741/napoli-vs-juventu
 s/
STATUS:CONFIRMED
END:VEVENT
END:VCALENDAR
