BEGIN:VCALENDAR
VERSION:2.0
PRODID:-//StreamRadar//Match Calendar//EN
CALSCALE:GREGORIAN
METHOD:PUBLISH
X-WR-CALNAME:Sama Al Sarhan vs Al Hussein
X-WR-TIMEZONE:America/New_York
BEGIN:VEVENT
UID:match-5618731@streamradar.soccer
SUMMARY:Sama Al Sarhan vs Al Hussein
DTSTAMP:20260422T091130Z
DTSTART;TZID=America/New_York:20260423T120000
DTEND;TZID=America/New_York:20260423T140000
DESCRIPTION:Где смотреть Sama Al Sarhan – Аль-Хуссей
  в турнире Jordan League. Прямая трансляция и т
 лепрограмма.\nhttps://streamradar.soccer/ru/match/5618731/sama-
 al-sarhan-vs-al-hussein/
URL;VALUE=URI:https://streamradar.soccer/ru/match/5618731/sama-al-sarhan-vs
 -al-hussein/
STATUS:CONFIRMED
END:VEVENT
END:VCALENDAR
