BEGIN:VCALENDAR
VERSION:2.0
PRODID:-//StreamRadar//Match Calendar//EN
CALSCALE:GREGORIAN
METHOD:PUBLISH
X-WR-CALNAME:Diamond Harbour vs Rajasthan
X-WR-TIMEZONE:America/New_York
BEGIN:VEVENT
UID:match-5618719@streamradar.soccer
SUMMARY:Diamond Harbour vs Rajasthan
DTSTAMP:20260422T120813Z
DTSTART;TZID=America/New_York:20260508T090000
DTEND;TZID=America/New_York:20260508T110000
LOCATION:Naihati Stadium
DESCRIPTION:Где смотреть Diamond Harbour – Rajasthan в тур
 нире Индия - I-League. Прямая трансляция и тел
 епрограмма.\nhttps://streamradar.soccer/ru/match/5618719/diamond-
 harbour-vs-rajasthan/
URL;VALUE=URI:https://streamradar.soccer/ru/match/5618719/diamond-harbour-v
 s-rajasthan/
STATUS:CONFIRMED
END:VEVENT
END:VCALENDAR
