BEGIN:VCALENDAR
VERSION:2.0
PRODID:-//StreamRadar//Match Calendar//EN
CALSCALE:GREGORIAN
METHOD:PUBLISH
X-WR-CALNAME:Shillong Lajong vs Chanmari
X-WR-TIMEZONE:America/New_York
BEGIN:VEVENT
UID:match-5618717@streamradar.soccer
SUMMARY:Shillong Lajong vs Chanmari
DTSTAMP:20260422T121028Z
DTSTART;TZID=America/New_York:20260502T090000
DTEND;TZID=America/New_York:20260502T110000
LOCATION:Jawaharlal Nehru Stadium
DESCRIPTION:Где смотреть Шиллонг Лайонг – Chanmar
 i в турнире Индия - I-League. Прямая трансляци
  и телепрограмма.\nhttps://streamradar.soccer/ru/match/56187
 17/shillong-lajong-vs-chanmari/
URL;VALUE=URI:https://streamradar.soccer/ru/match/5618717/shillong-lajong-v
 s-chanmari/
STATUS:CONFIRMED
END:VEVENT
END:VCALENDAR
