BEGIN:VCALENDAR
VERSION:2.0
PRODID:-//StreamRadar//Match Calendar//EN
CALSCALE:GREGORIAN
METHOD:PUBLISH
X-WR-CALNAME:Atlético Morelia vs Mineros de Zacatecas
X-WR-TIMEZONE:America/New_York
BEGIN:VEVENT
UID:match-5618709@streamradar.soccer
SUMMARY:Atlético Morelia vs Mineros de Zacatecas
DTSTAMP:20260422T104222Z
DTSTART;TZID=America/New_York:20260425T210000
DTEND;TZID=America/New_York:20260425T230000
LOCATION:Estadio Morelos
DESCRIPTION:Где смотреть Морелия – Mineros De Zacatecas
  в турнире Liga de Expansión MX. Прямая трансляция
  и телепрограмма.\nhttps://streamradar.soccer/ru/match/561870
 9/atletico-morelia-vs-mineros-de-zacatecas/
URL;VALUE=URI:https://streamradar.soccer/ru/match/5618709/atletico-morelia-
 vs-mineros-de-zacatecas/
STATUS:CONFIRMED
END:VEVENT
END:VCALENDAR
