BEGIN:VCALENDAR
VERSION:2.0
PRODID:-//StreamRadar//Match Calendar//EN
CALSCALE:GREGORIAN
METHOD:PUBLISH
X-WR-CALNAME:Shabab Al Ahli vs Al Nasr
X-WR-TIMEZONE:America/New_York
BEGIN:VEVENT
UID:match-5618707@streamradar.soccer
SUMMARY:Shabab Al Ahli vs Al Nasr
DTSTAMP:20260422T091217Z
DTSTART;TZID=America/New_York:20260506T124500
DTEND;TZID=America/New_York:20260506T144500
DESCRIPTION:Где смотреть Аль-Ахли (Дубай) – Аль
 -Наср в турнире ОАЭ - Про-лига ОАЭ. Прямая 
 рансляция и телепрограмма.\nhttps://streamradar.soc
 cer/ru/match/5618707/shabab-al-ahli-vs-al-nasr/
URL;VALUE=URI:https://streamradar.soccer/ru/match/5618707/shabab-al-ahli-vs
 -al-nasr/
STATUS:CONFIRMED
END:VEVENT
END:VCALENDAR
