BEGIN:VCALENDAR
VERSION:2.0
PRODID:-//StreamRadar//Match Calendar//EN
CALSCALE:GREGORIAN
METHOD:PUBLISH
X-WR-CALNAME:Atlante vs Tepatitlán
X-WR-TIMEZONE:America/New_York
BEGIN:VEVENT
UID:match-5618488@streamradar.soccer
SUMMARY:Atlante vs Tepatitlán
DTSTAMP:20260422T104125Z
DTSTART;TZID=America/New_York:20260423T190000
DTEND;TZID=America/New_York:20260423T210000
DESCRIPTION:Где смотреть Атланте – Tepatitlán в ту
 нире Liga de Expansión MX. Прямая трансляция и те
 епрограмма.\nhttps://streamradar.soccer/ru/match/5618488/atlante
 -vs-tepatitlan/
URL;VALUE=URI:https://streamradar.soccer/ru/match/5618488/atlante-vs-tepati
 tlan/
STATUS:CONFIRMED
END:VEVENT
END:VCALENDAR
