BEGIN:VCALENDAR
VERSION:2.0
PRODID:-//StreamRadar//Match Calendar//EN
CALSCALE:GREGORIAN
METHOD:PUBLISH
X-WR-CALNAME:Tusker vs APS Bomet
X-WR-TIMEZONE:America/New_York
BEGIN:VEVENT
UID:match-5618141@streamradar.soccer
SUMMARY:Tusker vs APS Bomet
DTSTAMP:20260421T112239Z
DTSTART;TZID=America/New_York:20260530T080000
DTEND;TZID=America/New_York:20260530T100000
DESCRIPTION:Где смотреть Тускер – APS Bomet в турн
 ре Kenyan Premier League. Прямая трансляция и теле
 рограмма.\nhttps://streamradar.soccer/ru/match/5618141/tusker-vs-a
 ps-bomet/
URL;VALUE=URI:https://streamradar.soccer/ru/match/5618141/tusker-vs-aps-bom
 et/
STATUS:CONFIRMED
END:VEVENT
END:VCALENDAR
